BEGIN:VCALENDAR
VERSION:2.0
PRODID:-//Ouistreham Riva Bella Gymnastique - ECPv5.2.0//NONSGML v1.0//EN
CALSCALE:GREGORIAN
METHOD:PUBLISH
X-WR-CALNAME:Ouistreham Riva Bella Gymnastique
X-ORIGINAL-URL:https://www.orbgym.com
X-WR-CALDESC:évènements pour Ouistreham Riva Bella Gymnastique
BEGIN:VTIMEZONE
TZID:Europe/Helsinki
BEGIN:DAYLIGHT
TZOFFSETFROM:+0200
TZOFFSETTO:+0300
TZNAME:EEST
DTSTART:20240331T010000
END:DAYLIGHT
BEGIN:STANDARD
TZOFFSETFROM:+0300
TZOFFSETTO:+0200
TZNAME:EET
DTSTART:20241027T010000
END:STANDARD
END:VTIMEZONE
BEGIN:VEVENT
DTSTART;TZID=Europe/Helsinki:20240824T094500
DTEND;TZID=Europe/Helsinki:20240824T101500
DTSTAMP:20260420T151747
CREATED:20240802T121513Z
LAST-MODIFIED:20240802T122443Z
UID:3430-1724492700-1724494500@www.orbgym.com
SUMMARY:Portes Ouvertes BabyGym 15-24 mois
DESCRIPTION:La BabyGym commence dès 15 mois ! A partir du moment ou votre enfant marche\, il ne va cesser d’explorer son corps et son environnement. Venez expérimenter nos séances parents-enfants\, idéales pour partager un moment ludique tout en favorisant leur bon développement ! \nA partir de la rentrée 24-25\, le créneau de BabyGym 15-24 mois revient dans votre club ! \nDécouvrez une activité enrichissante pour le développement global de votre enfant. La BabyGym offre une occasion unique de stimuler leur développement moteur\, affectif et psychologique à travers des situations et activités adaptées. Ces séances permettent à votre enfant d’explorer ses capacités\, de renforcer sa motricité\, et de développer sa confiance en lui. En plus des bénéfices physiques\, la BabyGym favorise les premières interactions sociales avec d’autres enfants\, un aspect crucial pour leur épanouissement affectif et social. Nos séances se déroulent dans un gymnase équipé de matériel de pointe\, conçu spécialement pour la sécurité et le plaisir des tout-petits. Venez partager ces moments précieux et offrez à votre enfant un départ optimal dans son aventure sportive et sociale !
URL:https://www.orbgym.com/event/portes-ouvertes-babygym-15-24-mois/
LOCATION:Ouistreham Riva Bella Gym\, 85 avenue du général Leclerc\, OUISTREHAM\, 14150\, France
ATTACH;FMTTYPE=image/jpeg:https://www.orbgym.com/wp-content/uploads/2024/06/20240316_115426-scaled.jpg
END:VEVENT
END:VCALENDAR