BEGIN:VCALENDAR
VERSION:2.0
PRODID:-//Ouistreham Riva Bella Gymnastique - ECPv5.2.0//NONSGML v1.0//EN
CALSCALE:GREGORIAN
METHOD:PUBLISH
X-WR-CALNAME:Ouistreham Riva Bella Gymnastique
X-ORIGINAL-URL:https://www.orbgym.com
X-WR-CALDESC:évènements pour Ouistreham Riva Bella Gymnastique
BEGIN:VTIMEZONE
TZID:UTC
BEGIN:STANDARD
TZOFFSETFROM:+0000
TZOFFSETTO:+0000
TZNAME:UTC
DTSTART:20190101T000000
END:STANDARD
END:VTIMEZONE
BEGIN:VEVENT
DTSTART;TZID=UTC:20190624T170000
DTEND;TZID=UTC:20190627T180000
DTSTAMP:20260423T114514
CREATED:20190619T113420Z
LAST-MODIFIED:20190619T113420Z
UID:1028-1561395600-1561658400@www.orbgym.com
SUMMARY:Sessions Inscriptions
DESCRIPTION:Sessions inscriptions/réinscriptions.\nPrévoir le règlement (chèque avec inscription du nom/prénom de l’enfant et mois d’encaissement au dos)\, et un certificat médical uniquement pour les nouvelles inscriptions.
URL:https://www.orbgym.com/event/sessions-inscriptions/
LOCATION:ORB Gym\, 85 avenue du Général Leclerc\, Ouistreham\, 14150\, France
END:VEVENT
END:VCALENDAR